BEGIN:VCALENDAR
VERSION:2.0
PRODID:-//Colegio Purísima Concepción - ECPv5.5.0.1//NONSGML v1.0//EN
CALSCALE:GREGORIAN
METHOD:PUBLISH
X-WR-CALNAME:Colegio Purísima Concepción
X-ORIGINAL-URL:https://colegiodelapurisima.cl/colegio-pc
X-WR-CALDESC:Eventos para Colegio Purísima Concepción
BEGIN:VTIMEZONE
TZID:America/Halifax
BEGIN:DAYLIGHT
TZOFFSETFROM:-0400
TZOFFSETTO:-0300
TZNAME:ADT
DTSTART:20220313T060000
END:DAYLIGHT
BEGIN:STANDARD
TZOFFSETFROM:-0300
TZOFFSETTO:-0400
TZNAME:AST
DTSTART:20221106T050000
END:STANDARD
END:VTIMEZONE
BEGIN:VEVENT
DTSTART;VALUE=DATE:20221127
DTEND;VALUE=DATE:20221201
DTSTAMP:20260425T072739
CREATED:20221123T182509Z
LAST-MODIFIED:20221123T182627Z
UID:13974-1669579200-1669838399@colegiodelapurisima.cl
SUMMARY:PAES
DESCRIPTION:Estimados padres y apoderados:\nJunto con saludarles\, les informamos que los días 28\,29 y 30 de noviembre el colegio será sede para la aplicación de la PAES (prueba de admisión a la educación superior) y de acuerdo con la Resolución Exenta N°1306 del MINEDUC\, se autoriza a los colegios donde se aplica esta prueba a suspender sus clases sin recuperación\, razón por la cual el colegio estará destinado esos días solo a ese proceso.\nLas clases se reanudarán el día jueves 01 de diciembre en una jornada ajustada\, que irá de 8:00 a 13:15 hrs.\, ya que la tarde de ese día habrá una jornada de trabajo con los profesores\, en la revisión del Reglamento de Evaluación para el año 2023\, de acuerdo a lo solicitado por Unidad de Currículum y Evaluación (UCE)\, del Ministerio de Educación.\nSin otro particular\, se despide cordialmente\,\nEduardo Vega Riquelme Director CPC
URL:https://colegiodelapurisima.cl/colegio-pc/evento/paes/
CATEGORIES:Suspensión de clases
END:VEVENT
END:VCALENDAR