BEGIN:VCALENDAR
VERSION:2.0
PRODID:-//Colegio Purísima Concepción - ECPv5.5.0.1//NONSGML v1.0//EN
CALSCALE:GREGORIAN
METHOD:PUBLISH
X-WR-CALNAME:Colegio Purísima Concepción
X-ORIGINAL-URL:https://colegiodelapurisima.cl/colegio-pc
X-WR-CALDESC:Eventos para Colegio Purísima Concepción
BEGIN:VTIMEZONE
TZID:America/Halifax
BEGIN:DAYLIGHT
TZOFFSETFROM:-0400
TZOFFSETTO:-0300
TZNAME:ADT
DTSTART:20210314T060000
END:DAYLIGHT
BEGIN:STANDARD
TZOFFSETFROM:-0300
TZOFFSETTO:-0400
TZNAME:AST
DTSTART:20211107T050000
END:STANDARD
END:VTIMEZONE
BEGIN:VEVENT
DTSTART;VALUE=DATE:20211121
DTEND;VALUE=DATE:20211123
DTSTAMP:20260425T113822
CREATED:20211116T050600Z
LAST-MODIFIED:20211116T050600Z
UID:12527-1637524800-1637611199@colegiodelapurisima.cl
SUMMARY:Suspensión de Clases
DESCRIPTION:
URL:https://colegiodelapurisima.cl/colegio-pc/evento/suspension-de-clases-2/
END:VEVENT
END:VCALENDAR